BEGIN:VCALENDAR
VERSION:2.0
PRODID:-//ChurchDev//Events//EN
CALSCALE:GREGORIAN
METHOD:PUBLISH
BEGIN:VEVENT
UID:4790-20220819@www.gtchurch.net
SUMMARY:Xtreme Team w/Pal &#038\; GT
DTSTART:20220819T230000Z
DTEND:20220820T003000Z
DESCRIPTION:https://www.gtchurch.net/events/xtreme-team-w-pal-gt/
URL:https://www.gtchurch.net/events/xtreme-team-w-pal-gt/
DTSTAMP:20260419T121948Z
END:VEVENT
END:VCALENDAR
