BEGIN:VCALENDAR
VERSION:2.0
PRODID:-//ChurchDev//Events//EN
CALSCALE:GREGORIAN
METHOD:PUBLISH
BEGIN:VEVENT
UID:5381-20251120@www.gtchurch.net
SUMMARY:LIFE Thanksgiving Luncheon
DTSTART:20251120T170000Z
DTEND:20251120T180000Z
DESCRIPTION:LIFE will be serving a Thanksgiving Luncheon in the FLC at 12pm. Please rsvp to the front office 910.892.4011\\n\\nhttps://www.gtchurch.net/events/life-thanksgiving-luncheon/
URL:https://www.gtchurch.net/events/life-thanksgiving-luncheon/
DTSTAMP:20260419T130953Z
END:VEVENT
END:VCALENDAR
