BEGIN:VCALENDAR
VERSION:2.0
PRODID:-//ChurchDev//Events//EN
CALSCALE:GREGORIAN
METHOD:PUBLISH
BEGIN:VEVENT
UID:5383-20251205@www.gtchurch.net
SUMMARY:Women’s Ministry Christmas Party
DTSTART:20251205T233000Z
DTEND:20251206T003000Z
DESCRIPTION:Ladies\, join us for a night of Christmas celebration! Bring a wrapped ornament for our gift exchange. $10 per lady! Please rsvp to the front office.\\n\\nhttps://www.gtchurch.net/events/womens-ministry-christmas-party/
URL:https://www.gtchurch.net/events/womens-ministry-christmas-party/
DTSTAMP:20260419T111136Z
END:VEVENT
END:VCALENDAR
